BEGIN:VCALENDAR
VERSION:2.0
PRODID:-//Deft Brewing - ECPv6.15.20//NONSGML v1.0//EN
CALSCALE:GREGORIAN
METHOD:PUBLISH
X-ORIGINAL-URL:https://deftbrewing.com
X-WR-CALDESC:Events for Deft Brewing
REFRESH-INTERVAL;VALUE=DURATION:PT1H
X-Robots-Tag:noindex
X-PUBLISHED-TTL:PT1H
BEGIN:VTIMEZONE
TZID:UTC
BEGIN:STANDARD
TZOFFSETFROM:+0000
TZOFFSETTO:+0000
TZNAME:UTC
DTSTART:20240101T000000
END:STANDARD
END:VTIMEZONE
BEGIN:VEVENT
DTSTART;TZID=UTC:20251211T183000
DTEND;TZID=UTC:20251211T203000
DTSTAMP:20260424T225039
CREATED:20250702T230107Z
LAST-MODIFIED:20251122T213406Z
UID:2228-1765477800-1765485000@deftbrewing.com
SUMMARY:Deft-Minded Trivia on the Patio
DESCRIPTION:
URL:https://deftbrewing.com/event/trivia-in-the-garten-96/
END:VEVENT
END:VCALENDAR