BEGIN:VCALENDAR
VERSION:2.0
PRODID:-//Deft Brewing - ECPv6.15.20//NONSGML v1.0//EN
CALSCALE:GREGORIAN
METHOD:PUBLISH
X-WR-CALNAME:Deft Brewing
X-ORIGINAL-URL:https://deftbrewing.com
X-WR-CALDESC:Events for Deft Brewing
REFRESH-INTERVAL;VALUE=DURATION:PT1H
X-Robots-Tag:noindex
X-PUBLISHED-TTL:PT1H
BEGIN:VTIMEZONE
TZID:UTC
BEGIN:STANDARD
TZOFFSETFROM:+0000
TZOFFSETTO:+0000
TZNAME:UTC
DTSTART:20250101T000000
END:STANDARD
END:VTIMEZONE
BEGIN:VEVENT
DTSTART;TZID=UTC:20260208T170000
DTEND;TZID=UTC:20260208T193000
DTSTAMP:20260424T192559
CREATED:20250616T224815Z
LAST-MODIFIED:20260123T231245Z
UID:2193-1770570000-1770579000@deftbrewing.com
SUMMARY:Live Music on the Patio Stage with Robin Henkel Blues
DESCRIPTION:Live Music on the Patio Stage with Robin Henkel Blues \nDeft Brewing & The Gärten present… Live Music on the Patio Stage all weekend\, featuring Robin Henkel Blues tonight.  Friday & Saturday shows often start at 6pm while the Sunday show often starts about 5pm.  No cover.  As always\, while taking in the music\, please enjoy some pints of delicious craft beer from Deft Brewing\, mead or wine from Lost Cause Meadery/Oddish Wine\, and some wood-fired pizzas and sandwiches from Pizza Cassette.
URL:https://deftbrewing.com/event/live-music-with-san-diego-jazz-all-stars-2/
END:VEVENT
END:VCALENDAR