BEGIN:VCALENDAR
VERSION:2.0
PRODID:-//Deft Brewing - ECPv6.15.20//NONSGML v1.0//EN
CALSCALE:GREGORIAN
METHOD:PUBLISH
X-ORIGINAL-URL:https://deftbrewing.com
X-WR-CALDESC:Events for Deft Brewing
REFRESH-INTERVAL;VALUE=DURATION:PT1H
X-Robots-Tag:noindex
X-PUBLISHED-TTL:PT1H
BEGIN:VTIMEZONE
TZID:UTC
BEGIN:STANDARD
TZOFFSETFROM:+0000
TZOFFSETTO:+0000
TZNAME:UTC
DTSTART:20250101T000000
END:STANDARD
END:VTIMEZONE
BEGIN:VEVENT
DTSTART;TZID=UTC:20260211T180000
DTEND;TZID=UTC:20260211T210000
DTSTAMP:20260424T192105
CREATED:20250417T234028Z
LAST-MODIFIED:20260123T222421Z
UID:2090-1770832800-1770843600@deftbrewing.com
SUMMARY:Open Mic Night on the Patio Stage
DESCRIPTION:Open Mic Night on the Patio Stage at Deft Brewing and The Gärten is tonight (and every Wednesday) 6pm\, hosted by our uber-talented hosts.  Whether you are a creative musician (just starting up or well-seasoned with your own tunes) or someone who loves to support local musicians\, please join us tonight on the Patio.  Mic and sound equipment provided – just bring your instrument.  Open signup starts 6pm.  As with every Tues-Sun\, pizza\, sandwiches\, salads\, etc available from Pizza Cassette.
URL:https://deftbrewing.com/event/open-mic-night-93/
END:VEVENT
END:VCALENDAR