BEGIN:VCALENDAR
VERSION:2.0
PRODID:-//Deft Brewing - ECPv6.15.20//NONSGML v1.0//EN
CALSCALE:GREGORIAN
METHOD:PUBLISH
X-WR-CALNAME:Deft Brewing
X-ORIGINAL-URL:https://deftbrewing.com
X-WR-CALDESC:Events for Deft Brewing
REFRESH-INTERVAL;VALUE=DURATION:PT1H
X-Robots-Tag:noindex
X-PUBLISHED-TTL:PT1H
BEGIN:VTIMEZONE
TZID:UTC
BEGIN:STANDARD
TZOFFSETFROM:+0000
TZOFFSETTO:+0000
TZNAME:UTC
DTSTART:20250101T000000
END:STANDARD
END:VTIMEZONE
BEGIN:VTIMEZONE
TZID:America/Los_Angeles
BEGIN:DAYLIGHT
TZOFFSETFROM:-0800
TZOFFSETTO:-0700
TZNAME:PDT
DTSTART:20250309T100000
END:DAYLIGHT
BEGIN:STANDARD
TZOFFSETFROM:-0700
TZOFFSETTO:-0800
TZNAME:PST
DTSTART:20251102T090000
END:STANDARD
BEGIN:DAYLIGHT
TZOFFSETFROM:-0800
TZOFFSETTO:-0700
TZNAME:PDT
DTSTART:20260308T100000
END:DAYLIGHT
BEGIN:STANDARD
TZOFFSETFROM:-0700
TZOFFSETTO:-0800
TZNAME:PST
DTSTART:20261101T090000
END:STANDARD
BEGIN:DAYLIGHT
TZOFFSETFROM:-0800
TZOFFSETTO:-0700
TZNAME:PDT
DTSTART:20270314T100000
END:DAYLIGHT
BEGIN:STANDARD
TZOFFSETFROM:-0700
TZOFFSETTO:-0800
TZNAME:PST
DTSTART:20271107T090000
END:STANDARD
END:VTIMEZONE
BEGIN:VTIMEZONE
TZID:America/Los_Angeles
BEGIN:DAYLIGHT
TZOFFSETFROM:-0800
TZOFFSETTO:-0700
TZNAME:PDT
DTSTART:20240310T100000
END:DAYLIGHT
BEGIN:STANDARD
TZOFFSETFROM:-0700
TZOFFSETTO:-0800
TZNAME:PST
DTSTART:20241103T090000
END:STANDARD
BEGIN:DAYLIGHT
TZOFFSETFROM:-0800
TZOFFSETTO:-0700
TZNAME:PDT
DTSTART:20250309T100000
END:DAYLIGHT
BEGIN:STANDARD
TZOFFSETFROM:-0700
TZOFFSETTO:-0800
TZNAME:PST
DTSTART:20251102T090000
END:STANDARD
BEGIN:DAYLIGHT
TZOFFSETFROM:-0800
TZOFFSETTO:-0700
TZNAME:PDT
DTSTART:20260308T100000
END:DAYLIGHT
BEGIN:STANDARD
TZOFFSETFROM:-0700
TZOFFSETTO:-0800
TZNAME:PST
DTSTART:20261101T090000
END:STANDARD
BEGIN:DAYLIGHT
TZOFFSETFROM:-0800
TZOFFSETTO:-0700
TZNAME:PDT
DTSTART:20270314T100000
END:DAYLIGHT
BEGIN:STANDARD
TZOFFSETFROM:-0700
TZOFFSETTO:-0800
TZNAME:PST
DTSTART:20271107T090000
END:STANDARD
END:VTIMEZONE
BEGIN:VEVENT
DTSTART;TZID=UTC:20260201T160000
DTEND;TZID=UTC:20260201T183000
DTSTAMP:20260425T003348
CREATED:20250327T001357Z
LAST-MODIFIED:20260103T011626Z
UID:2012-1769961600-1769970600@deftbrewing.com
SUMMARY:Live Music with A Side of Beans
DESCRIPTION:
URL:https://deftbrewing.com/event/live-music-with-a-side-of-beans-5/
END:VEVENT
BEGIN:VEVENT
DTSTART;TZID=UTC:20260131T180000
DTEND;TZID=UTC:20260131T203000
DTSTAMP:20260425T003348
CREATED:20250404T004350Z
LAST-MODIFIED:20260103T011533Z
UID:2068-1769882400-1769891400@deftbrewing.com
SUMMARY:Live Music with Sandpiper Ensemble
DESCRIPTION:
URL:https://deftbrewing.com/event/live-music-with-the-surf-birdz-8/
END:VEVENT
BEGIN:VEVENT
DTSTART;TZID=UTC:20260130T170000
DTEND;TZID=UTC:20260130T200000
DTSTAMP:20260425T003348
CREATED:20250404T005520Z
LAST-MODIFIED:20260103T011447Z
UID:2082-1769792400-1769803200@deftbrewing.com
SUMMARY:Live Music with The Mayzie Funk Band
DESCRIPTION:
URL:https://deftbrewing.com/event/live-music-with-the-linda-berry-band-3/
END:VEVENT
BEGIN:VEVENT
DTSTART;TZID=UTC:20260129T183000
DTEND;TZID=UTC:20260129T203000
DTSTAMP:20260425T003348
CREATED:20250616T223200Z
LAST-MODIFIED:20260103T012826Z
UID:2167-1769711400-1769718600@deftbrewing.com
SUMMARY:Deft-Minded Trivia on the Patio
DESCRIPTION:
URL:https://deftbrewing.com/event/trivia-in-the-garten-89/
END:VEVENT
BEGIN:VEVENT
DTSTART;TZID=UTC:20260128T180000
DTEND;TZID=UTC:20260128T210000
DTSTAMP:20260425T003348
CREATED:20250616T223918Z
LAST-MODIFIED:20260103T011952Z
UID:2179-1769623200-1769634000@deftbrewing.com
SUMMARY:Open Mic Night
DESCRIPTION:Open sign-ups welcome to amateurs and well-seasoned musical performers!
URL:https://deftbrewing.com/event/open-mic-night-98/
END:VEVENT
BEGIN:VEVENT
DTSTART;TZID=UTC:20260125T160000
DTEND;TZID=UTC:20260125T183000
DTSTAMP:20260425T003348
CREATED:20250529T000038Z
LAST-MODIFIED:20260103T012704Z
UID:2152-1769356800-1769365800@deftbrewing.com
SUMMARY:Live Music with Quick Fix Jazz Funk
DESCRIPTION:
URL:https://deftbrewing.com/event/live-music-with-quick-fix-jazz-trio/
END:VEVENT
BEGIN:VEVENT
DTSTART;TZID=UTC:20260124T180000
DTEND;TZID=UTC:20260124T203000
DTSTAMP:20260425T003348
CREATED:20241105T000922Z
LAST-MODIFIED:20260103T011224Z
UID:1685-1769277600-1769286600@deftbrewing.com
SUMMARY:Live Music with Jerry G & The Inlanders
DESCRIPTION:
URL:https://deftbrewing.com/event/live-music-with-jerry-g-the-inlanders-3/
END:VEVENT
BEGIN:VEVENT
DTSTART;TZID=UTC:20260123T180000
DTEND;TZID=UTC:20260123T203000
DTSTAMP:20260425T003348
CREATED:20250616T224919Z
LAST-MODIFIED:20260103T011125Z
UID:2195-1769191200-1769200200@deftbrewing.com
SUMMARY:Live Music with Linda Berry Band
DESCRIPTION:
URL:https://deftbrewing.com/event/live-music-with-linda-berry-band-4/
END:VEVENT
BEGIN:VEVENT
DTSTART;TZID=UTC:20260122T183000
DTEND;TZID=UTC:20260122T203000
DTSTAMP:20260425T003348
CREATED:20250616T223011Z
LAST-MODIFIED:20260103T012353Z
UID:2165-1769106600-1769113800@deftbrewing.com
SUMMARY:Deft-Minded Trivia on the Patio
DESCRIPTION:
URL:https://deftbrewing.com/event/trivia-in-the-garten-88/
END:VEVENT
BEGIN:VEVENT
DTSTART;TZID=UTC:20260121T180000
DTEND;TZID=UTC:20260121T210000
DTSTAMP:20260425T003348
CREATED:20250616T223756Z
LAST-MODIFIED:20260103T011907Z
UID:2175-1769018400-1769029200@deftbrewing.com
SUMMARY:Open Mic Night
DESCRIPTION:Open sign-ups welcome to amateurs and well-seasoned musical performers!
URL:https://deftbrewing.com/event/open-mic-night-96/
END:VEVENT
BEGIN:VEVENT
DTSTART;TZID=UTC:20260118T160000
DTEND;TZID=UTC:20260118T183000
DTSTAMP:20260425T003348
CREATED:20240111T000858Z
LAST-MODIFIED:20260103T012637Z
UID:984-1768752000-1768761000@deftbrewing.com
SUMMARY:Live Music with Piers Lawrence Jazz
DESCRIPTION:
URL:https://deftbrewing.com/event/live-music-with-tecolote-canyon-9/
END:VEVENT
BEGIN:VEVENT
DTSTART;TZID=UTC:20260117T180000
DTEND;TZID=UTC:20260117T203000
DTSTAMP:20260425T003348
CREATED:20241115T004347Z
LAST-MODIFIED:20260103T010917Z
UID:1747-1768672800-1768681800@deftbrewing.com
SUMMARY:Live Music with Starsign
DESCRIPTION:
URL:https://deftbrewing.com/event/live-music-with-sd-jazz-all-stars/
END:VEVENT
BEGIN:VEVENT
DTSTART;TZID=UTC:20260116T180000
DTEND;TZID=UTC:20260116T203000
DTSTAMP:20260425T003348
CREATED:20250404T005349Z
LAST-MODIFIED:20260103T010806Z
UID:2080-1768586400-1768595400@deftbrewing.com
SUMMARY:Live Music with Agents of Apollo
DESCRIPTION:
URL:https://deftbrewing.com/event/live-music-with-agents-of-apollo-19/
END:VEVENT
BEGIN:VEVENT
DTSTART;TZID=UTC:20260115T183000
DTEND;TZID=UTC:20260115T203000
DTSTAMP:20260425T003348
CREATED:20250616T223252Z
LAST-MODIFIED:20260103T012315Z
UID:2169-1768501800-1768509000@deftbrewing.com
SUMMARY:Deft-Minded Trivia on the Patio
DESCRIPTION:
URL:https://deftbrewing.com/event/trivia-in-the-garten-90/
END:VEVENT
BEGIN:VEVENT
DTSTART;TZID=UTC:20260114T180000
DTEND;TZID=UTC:20260114T210000
DTSTAMP:20260425T003348
CREATED:20250616T223831Z
LAST-MODIFIED:20260103T011801Z
UID:2177-1768413600-1768424400@deftbrewing.com
SUMMARY:Open Mic Night
DESCRIPTION:Open sign-ups welcome to amateurs and well-seasoned musical performers!
URL:https://deftbrewing.com/event/open-mic-night-97/
END:VEVENT
BEGIN:VEVENT
DTSTART;TZID=America/Los_Angeles:20260111T160000
DTEND;TZID=America/Los_Angeles:20260111T183000
DTSTAMP:20260425T003348
CREATED:20251101T180427Z
LAST-MODIFIED:20260103T010703Z
UID:2301-1768147200-1768156200@deftbrewing.com
SUMMARY:Live Music on the Patio Stage - Robin Henkel Blues
DESCRIPTION:
URL:https://deftbrewing.com/event/shakedown-string-band/
END:VEVENT
BEGIN:VEVENT
DTSTART;TZID=UTC:20260110T180000
DTEND;TZID=UTC:20260110T203000
DTSTAMP:20260425T003348
CREATED:20250404T005016Z
LAST-MODIFIED:20260103T010410Z
UID:2074-1768068000-1768077000@deftbrewing.com
SUMMARY:Live Music with Tecolote Canyon
DESCRIPTION:
URL:https://deftbrewing.com/event/live-music-with-drivin-the-bus-7/
END:VEVENT
BEGIN:VEVENT
DTSTART;TZID=UTC:20260109T180000
DTEND;TZID=UTC:20260109T203000
DTSTAMP:20260425T003348
CREATED:20250404T004824Z
LAST-MODIFIED:20260103T010327Z
UID:2072-1767981600-1767990600@deftbrewing.com
SUMMARY:Live Music with Surf Birdz
DESCRIPTION:
URL:https://deftbrewing.com/event/live-music-with-mystery-train-jerry-garcia-tribute-band-2/
END:VEVENT
BEGIN:VEVENT
DTSTART;TZID=UTC:20260108T183000
DTEND;TZID=UTC:20260108T203000
DTSTAMP:20260425T003348
CREATED:20250616T223330Z
LAST-MODIFIED:20260103T012240Z
UID:2171-1767897000-1767904200@deftbrewing.com
SUMMARY:Deft-Minded Trivia on the Patio
DESCRIPTION:
URL:https://deftbrewing.com/event/trivia-in-the-garten-91/
END:VEVENT
BEGIN:VEVENT
DTSTART;TZID=UTC:20260107T180000
DTEND;TZID=UTC:20260107T210000
DTSTAMP:20260425T003348
CREATED:20250417T234240Z
LAST-MODIFIED:20260103T011828Z
UID:2094-1767808800-1767819600@deftbrewing.com
SUMMARY:Open Mic Night
DESCRIPTION:Open sign-ups welcome to amateurs and well-seasoned musical performers!
URL:https://deftbrewing.com/event/open-mic-night-95/
END:VEVENT
BEGIN:VEVENT
DTSTART;TZID=UTC:20260104T160000
DTEND;TZID=UTC:20260104T183000
DTSTAMP:20260425T003348
CREATED:20250404T005103Z
LAST-MODIFIED:20260103T010201Z
UID:2076-1767542400-1767551400@deftbrewing.com
SUMMARY:Live Music with A Side of Beans
DESCRIPTION:
URL:https://deftbrewing.com/event/live-music-with-a-side-of-beans-6/
END:VEVENT
BEGIN:VEVENT
DTSTART;TZID=UTC:20260103T180000
DTEND;TZID=UTC:20260103T203000
DTSTAMP:20260425T003348
CREATED:20250616T224329Z
LAST-MODIFIED:20260103T010016Z
UID:2185-1767463200-1767472200@deftbrewing.com
SUMMARY:Live Music with Do Right Louie
DESCRIPTION:
URL:https://deftbrewing.com/event/live-music-with-agents-of-apollo-21/
END:VEVENT
BEGIN:VEVENT
DTSTART;TZID=UTC:20260102T180000
DTEND;TZID=UTC:20260102T203000
DTSTAMP:20260425T003348
CREATED:20250327T000855Z
LAST-MODIFIED:20260103T005857Z
UID:2004-1767376800-1767385800@deftbrewing.com
SUMMARY:Live Music with Shakedown String Band
DESCRIPTION:
URL:https://deftbrewing.com/event/live-music-with-the-travel-agents-rosy-dawn/
END:VEVENT
BEGIN:VEVENT
DTSTART;TZID=UTC:20260101T183000
DTEND;TZID=UTC:20260101T203000
DTSTAMP:20260425T003348
CREATED:20250616T223638Z
LAST-MODIFIED:20260103T012101Z
UID:2173-1767292200-1767299400@deftbrewing.com
SUMMARY:Deft-Minded Trivia on the Patio
DESCRIPTION:
URL:https://deftbrewing.com/event/trivia-in-the-garten-92/
END:VEVENT
BEGIN:VEVENT
DTSTART;TZID=America/Los_Angeles:20260101T120000
DTEND;TZID=America/Los_Angeles:20260101T210000
DTSTAMP:20260425T003348
CREATED:20251122T215908Z
LAST-MODIFIED:20251123T003220Z
UID:2349-1767268800-1767301200@deftbrewing.com
SUMMARY:New Year's Day SPECIAL HOURS - 12-9pm
DESCRIPTION:
URL:https://deftbrewing.com/event/nye-special-hours-12-9pm/
END:VEVENT
BEGIN:VEVENT
DTSTART;TZID=America/Los_Angeles:20251231T180000
DTEND;TZID=America/Los_Angeles:20251231T210000
DTSTAMP:20260425T003348
CREATED:20250616T224005Z
LAST-MODIFIED:20251122T215809Z
UID:2181-1767204000-1767214800@deftbrewing.com
SUMMARY:Open Mic Night
DESCRIPTION:Open sign-ups welcome to amateurs and well-seasoned musical performers!
URL:https://deftbrewing.com/event/open-mic-night-99/
END:VEVENT
BEGIN:VEVENT
DTSTART;TZID=America/Los_Angeles:20251231T120000
DTEND;TZID=America/Los_Angeles:20251231T210000
DTSTAMP:20260425T003348
CREATED:20251122T220018Z
LAST-MODIFIED:20251123T003140Z
UID:2351-1767182400-1767214800@deftbrewing.com
SUMMARY:New Years Eve SPECIAL HOURS - 12-9pm
DESCRIPTION:
URL:https://deftbrewing.com/event/new-years-day-special-hours-12-9pm/
END:VEVENT
BEGIN:VEVENT
DTSTART;TZID=America/Los_Angeles:20251228T173000
DTEND;TZID=America/Los_Angeles:20251228T200000
DTSTAMP:20260425T003348
CREATED:20250616T225053Z
LAST-MODIFIED:20251122T215719Z
UID:2199-1766943000-1766952000@deftbrewing.com
SUMMARY:Live Music on the Patio Stage - The Sandcasters
DESCRIPTION:
URL:https://deftbrewing.com/event/live-music-with-the-sandcasters-5/
END:VEVENT
BEGIN:VEVENT
DTSTART;TZID=America/Los_Angeles:20251227T180000
DTEND;TZID=America/Los_Angeles:20251227T203000
DTSTAMP:20260425T003348
CREATED:20250616T225143Z
LAST-MODIFIED:20251122T215622Z
UID:2201-1766858400-1766867400@deftbrewing.com
SUMMARY:Live Music on the Patio Stage - Lovalot JAZZ
DESCRIPTION:
URL:https://deftbrewing.com/event/live-music-with-the-water-spots-14/
END:VEVENT
BEGIN:VEVENT
DTSTART;TZID=America/Los_Angeles:20251226T170000
DTEND;TZID=America/Los_Angeles:20251226T200000
DTSTAMP:20260425T003348
CREATED:20250616T225217Z
LAST-MODIFIED:20251122T215515Z
UID:2203-1766768400-1766779200@deftbrewing.com
SUMMARY:Live Music on the Patio Stage - Agents of Apollo
DESCRIPTION:
URL:https://deftbrewing.com/event/live-music-with-chris-fast-band-2/
END:VEVENT
END:VCALENDAR