BEGIN:VCALENDAR
VERSION:2.0
PRODID:-//Deft Brewing - ECPv6.15.20//NONSGML v1.0//EN
CALSCALE:GREGORIAN
METHOD:PUBLISH
X-WR-CALNAME:Deft Brewing
X-ORIGINAL-URL:https://deftbrewing.com
X-WR-CALDESC:Events for Deft Brewing
REFRESH-INTERVAL;VALUE=DURATION:PT1H
X-Robots-Tag:noindex
X-PUBLISHED-TTL:PT1H
BEGIN:VTIMEZONE
TZID:America/Los_Angeles
BEGIN:DAYLIGHT
TZOFFSETFROM:-0800
TZOFFSETTO:-0700
TZNAME:PDT
DTSTART:20240310T100000
END:DAYLIGHT
BEGIN:STANDARD
TZOFFSETFROM:-0700
TZOFFSETTO:-0800
TZNAME:PST
DTSTART:20241103T090000
END:STANDARD
BEGIN:DAYLIGHT
TZOFFSETFROM:-0800
TZOFFSETTO:-0700
TZNAME:PDT
DTSTART:20250309T100000
END:DAYLIGHT
BEGIN:STANDARD
TZOFFSETFROM:-0700
TZOFFSETTO:-0800
TZNAME:PST
DTSTART:20251102T090000
END:STANDARD
BEGIN:DAYLIGHT
TZOFFSETFROM:-0800
TZOFFSETTO:-0700
TZNAME:PDT
DTSTART:20260308T100000
END:DAYLIGHT
BEGIN:STANDARD
TZOFFSETFROM:-0700
TZOFFSETTO:-0800
TZNAME:PST
DTSTART:20261101T090000
END:STANDARD
END:VTIMEZONE
BEGIN:VTIMEZONE
TZID:America/Los_Angeles
BEGIN:DAYLIGHT
TZOFFSETFROM:-0800
TZOFFSETTO:-0700
TZNAME:PDT
DTSTART:20240310T100000
END:DAYLIGHT
BEGIN:STANDARD
TZOFFSETFROM:-0700
TZOFFSETTO:-0800
TZNAME:PST
DTSTART:20241103T090000
END:STANDARD
BEGIN:DAYLIGHT
TZOFFSETFROM:-0800
TZOFFSETTO:-0700
TZNAME:PDT
DTSTART:20250309T100000
END:DAYLIGHT
BEGIN:STANDARD
TZOFFSETFROM:-0700
TZOFFSETTO:-0800
TZNAME:PST
DTSTART:20251102T090000
END:STANDARD
BEGIN:DAYLIGHT
TZOFFSETFROM:-0800
TZOFFSETTO:-0700
TZNAME:PDT
DTSTART:20260308T100000
END:DAYLIGHT
BEGIN:STANDARD
TZOFFSETFROM:-0700
TZOFFSETTO:-0800
TZNAME:PST
DTSTART:20261101T090000
END:STANDARD
END:VTIMEZONE
BEGIN:VTIMEZONE
TZID:UTC
BEGIN:STANDARD
TZOFFSETFROM:+0000
TZOFFSETTO:+0000
TZNAME:UTC
DTSTART:20240101T000000
END:STANDARD
END:VTIMEZONE
BEGIN:VEVENT
DTSTART;TZID=America/Los_Angeles:20251205T180000
DTEND;TZID=America/Los_Angeles:20251205T203000
DTSTAMP:20260425T041455
CREATED:20250702T233706Z
LAST-MODIFIED:20251122T214025Z
UID:2246-1764957600-1764966600@deftbrewing.com
SUMMARY:Live Music on the Patio Stage - Linda Berry Band
DESCRIPTION:
URL:https://deftbrewing.com/event/live-music-with-san-diego-jazz-all-stars-3/
END:VEVENT
BEGIN:VEVENT
DTSTART;TZID=America/Los_Angeles:20251204T183000
DTEND;TZID=America/Los_Angeles:20251204T203000
DTSTAMP:20260425T041455
CREATED:20250702T230001Z
LAST-MODIFIED:20251122T213910Z
UID:2224-1764873000-1764880200@deftbrewing.com
SUMMARY:Deft-Minded Trivia on the Patio
DESCRIPTION:
URL:https://deftbrewing.com/event/trivia-in-the-garten-94/
END:VEVENT
BEGIN:VEVENT
DTSTART;TZID=America/Los_Angeles:20251203T180000
DTEND;TZID=America/Los_Angeles:20251203T210000
DTSTAMP:20260425T041455
CREATED:20250702T225530Z
LAST-MODIFIED:20251122T213543Z
UID:2214-1764784800-1764795600@deftbrewing.com
SUMMARY:Open Mic Night
DESCRIPTION:Open sign-ups welcome to amateurs and well-seasoned musical performers!
URL:https://deftbrewing.com/event/open-mic-night-100/
END:VEVENT
BEGIN:VEVENT
DTSTART;TZID=UTC:20251129T180000
DTEND;TZID=UTC:20251129T210000
DTSTAMP:20260425T041455
CREATED:20250702T234540Z
LAST-MODIFIED:20251122T213104Z
UID:2248-1764439200-1764450000@deftbrewing.com
SUMMARY:Live Music on the Patio Stage - Mystery Train
DESCRIPTION:
URL:https://deftbrewing.com/event/live-music-with-sandpiper-ensemble/
END:VEVENT
BEGIN:VEVENT
DTSTART;TZID=UTC:20251128T180000
DTEND;TZID=UTC:20251128T203000
DTSTAMP:20260425T041455
CREATED:20250702T235910Z
LAST-MODIFIED:20251122T213014Z
UID:2252-1764352800-1764361800@deftbrewing.com
SUMMARY:Live Music on the Patio Stage - Tecolote Canyon
DESCRIPTION:
URL:https://deftbrewing.com/event/live-music-with-mystery-train-jerry-garcia-tribute-band-5/
END:VEVENT
BEGIN:VEVENT
DTSTART;VALUE=DATE:20251127
DTEND;VALUE=DATE:20251128
DTSTAMP:20260425T041455
CREATED:20250702T230709Z
LAST-MODIFIED:20251122T212615Z
UID:2230-1764201600-1764287999@deftbrewing.com
SUMMARY:Thanksgiving Day - CLOSED
DESCRIPTION:
URL:https://deftbrewing.com/event/live-music-with-linda-berry-band-5/
END:VEVENT
BEGIN:VEVENT
DTSTART;TZID=America/Los_Angeles:20251126T180000
DTEND;TZID=America/Los_Angeles:20251126T210000
DTSTAMP:20260425T041455
CREATED:20250702T225807Z
LAST-MODIFIED:20251122T203559Z
UID:2218-1764180000-1764190800@deftbrewing.com
SUMMARY:Open Mic Night
DESCRIPTION:Open sign-ups welcome to amateurs and well-seasoned musical performers!
URL:https://deftbrewing.com/event/open-mic-night-102/
END:VEVENT
BEGIN:VEVENT
DTSTART;TZID=America/Los_Angeles:20251126T120000
DTEND;TZID=America/Los_Angeles:20251126T210000
DTSTAMP:20260425T041455
CREATED:20251122T204642Z
LAST-MODIFIED:20251122T204642Z
UID:2319-1764158400-1764190800@deftbrewing.com
SUMMARY:Day Before Thanksgiving- Early Open at 12pm\, closing at 9pm
DESCRIPTION:
URL:https://deftbrewing.com/event/day-before-thanksgiving-early-open-at-12pm-closing-at-9pm/
END:VEVENT
BEGIN:VEVENT
DTSTART;TZID=America/Los_Angeles:20251124T190000
DTEND;TZID=America/Los_Angeles:20251124T210000
DTSTAMP:20260425T041455
CREATED:20250702T225940Z
LAST-MODIFIED:20251123T003552Z
UID:2222-1764010800-1764018000@deftbrewing.com
SUMMARY:SDFC Playoffs Watch Party
DESCRIPTION:SDFC Conference Semi-finals game on the big screen with audio.  Free noshes.  Special hours – closing after game ends.
URL:https://deftbrewing.com/event/trivia-in-the-garten-93/
END:VEVENT
BEGIN:VEVENT
DTSTART;TZID=UTC:20251123T170000
DTEND;TZID=UTC:20251123T193000
DTSTAMP:20260425T041455
CREATED:20250702T235046Z
LAST-MODIFIED:20251122T212748Z
UID:2250-1763917200-1763926200@deftbrewing.com
SUMMARY:Live Music on the Patio Stage - Quick Fix Funk Trio
DESCRIPTION:
URL:https://deftbrewing.com/event/live-music-with-hill-and-dale-drive/
END:VEVENT
BEGIN:VEVENT
DTSTART;TZID=America/Los_Angeles:20251122T180000
DTEND;TZID=America/Los_Angeles:20251122T210000
DTSTAMP:20260425T041455
CREATED:20230323T042801Z
LAST-MODIFIED:20251122T212238Z
UID:180-1763834400-1763845200@deftbrewing.com
SUMMARY:Live Music on the Patio Stage - Starsign
DESCRIPTION:
URL:https://deftbrewing.com/event/live-music-on-the-patio-stage/
END:VEVENT
BEGIN:VEVENT
DTSTART;TZID=UTC:20251110T160000
DTEND;TZID=UTC:20251110T183000
DTSTAMP:20260425T041455
CREATED:20250404T005159Z
LAST-MODIFIED:20260103T010534Z
UID:2078-1762790400-1762799400@deftbrewing.com
SUMMARY:Live Music with Robin Henkel Blues
DESCRIPTION:
URL:https://deftbrewing.com/event/live-music-with-the-sea-monks-8/
END:VEVENT
BEGIN:VEVENT
DTSTART;VALUE=DATE:20250719
DTEND;VALUE=DATE:20250720
DTSTAMP:20260425T041455
CREATED:20250528T234731Z
LAST-MODIFIED:20250528T234833Z
UID:2134-1752883200-1752969599@deftbrewing.com
SUMMARY:Pizza Cassette Anniversary Party!
DESCRIPTION:
URL:https://deftbrewing.com/event/pizza-cassette-anniversary-party/
END:VEVENT
BEGIN:VEVENT
DTSTART;TZID=UTC:20250717T183000
DTEND;TZID=UTC:20250717T203000
DTSTAMP:20260425T041455
CREATED:20250616T222902Z
LAST-MODIFIED:20250616T222902Z
UID:2161-1752777000-1752784200@deftbrewing.com
SUMMARY:Trivia in The Garten
DESCRIPTION:
URL:https://deftbrewing.com/event/trivia-in-the-garten-86/
END:VEVENT
BEGIN:VEVENT
DTSTART;TZID=UTC:20250712T203000
DTEND;TZID=UTC:20250712T230000
DTSTAMP:20260425T041455
CREATED:20250611T230107Z
LAST-MODIFIED:20250611T230107Z
UID:2159-1752352200-1752361200@deftbrewing.com
SUMMARY:Starsign Late Night Show
DESCRIPTION:
URL:https://deftbrewing.com/event/starsign-late-night-show/
END:VEVENT
BEGIN:VEVENT
DTSTART;TZID=UTC:20250624T180000
DTEND;TZID=UTC:20250624T210000
DTSTAMP:20260425T041455
CREATED:20250404T002457Z
LAST-MODIFIED:20250404T002457Z
UID:2044-1750788000-1750798800@deftbrewing.com
SUMMARY:QUAFF Homebrew Club Meeting
DESCRIPTION:4th Tuesday of each month outside in The Garten area.
URL:https://deftbrewing.com/event/quaff-homebrew-club-meeting-18/
END:VEVENT
BEGIN:VEVENT
DTSTART;TZID=UTC:20250608T173000
DTEND;TZID=UTC:20250608T200000
DTSTAMP:20260425T041455
CREATED:20250404T004017Z
LAST-MODIFIED:20250528T231536Z
UID:2064-1749403800-1749412800@deftbrewing.com
SUMMARY:Live Music with Quick Fix Funk Trio
DESCRIPTION:
URL:https://deftbrewing.com/event/live-music-with-quick-fix-funk-trio-3/
END:VEVENT
BEGIN:VEVENT
DTSTART;TZID=UTC:20250607T180000
DTEND;TZID=UTC:20250607T203000
DTSTAMP:20260425T041455
CREATED:20250404T003856Z
LAST-MODIFIED:20250528T231808Z
UID:2062-1749319200-1749328200@deftbrewing.com
SUMMARY:Live Music with Tecolote Canyon
DESCRIPTION:
URL:https://deftbrewing.com/event/live-music-with-tecolote-canyon-20/
END:VEVENT
BEGIN:VEVENT
DTSTART;TZID=UTC:20250601T163000
DTEND;TZID=UTC:20250601T190000
DTSTAMP:20260425T041455
CREATED:20250327T001546Z
LAST-MODIFIED:20250327T001546Z
UID:2014-1748795400-1748804400@deftbrewing.com
SUMMARY:Live Music with Linda Berry Band
DESCRIPTION:
URL:https://deftbrewing.com/event/live-music-with-linda-berry-band-3/
END:VEVENT
BEGIN:VEVENT
DTSTART;TZID=UTC:20250531T180000
DTEND;TZID=UTC:20250531T203000
DTSTAMP:20260425T041455
CREATED:20250327T001112Z
LAST-MODIFIED:20250528T230428Z
UID:2008-1748714400-1748723400@deftbrewing.com
SUMMARY:Live Music with Agents of Apollo
DESCRIPTION:
URL:https://deftbrewing.com/event/live-music-with-agents-of-apollo-18/
END:VEVENT
BEGIN:VEVENT
DTSTART;TZID=UTC:20250528T180000
DTEND;TZID=UTC:20250528T203000
DTSTAMP:20260425T041455
CREATED:20250327T231304Z
LAST-MODIFIED:20250327T231304Z
UID:2034-1748455200-1748464200@deftbrewing.com
SUMMARY:Open Mic Night
DESCRIPTION:Open sign-ups welcome to amateurs and well-seasoned musical performers!
URL:https://deftbrewing.com/event/open-mic-night-86/
END:VEVENT
BEGIN:VEVENT
DTSTART;TZID=UTC:20250527T180000
DTEND;TZID=UTC:20250527T210000
DTSTAMP:20260425T041455
CREATED:20250404T002028Z
LAST-MODIFIED:20250404T002028Z
UID:2042-1748368800-1748379600@deftbrewing.com
SUMMARY:QUAFF Homebrew Club Meeting
DESCRIPTION:4th Tuesday of each month outside in The Garten area.
URL:https://deftbrewing.com/event/quaff-homebrew-club-meeting-17/
END:VEVENT
BEGIN:VEVENT
DTSTART;TZID=UTC:20250526T120000
DTEND;TZID=UTC:20250526T210000
DTSTAMP:20260425T041455
CREATED:20250513T010049Z
LAST-MODIFIED:20250513T010146Z
UID:2114-1748260800-1748293200@deftbrewing.com
SUMMARY:Open at 12PM for Memorial Day!
DESCRIPTION:Come join us for an early opening!
URL:https://deftbrewing.com/event/open-at-12pm-for-memorial-day/
END:VEVENT
BEGIN:VEVENT
DTSTART;TZID=UTC:20250524T190000
DTEND;TZID=UTC:20250524T213000
DTSTAMP:20260425T041455
CREATED:20250327T001022Z
LAST-MODIFIED:20250423T232830Z
UID:2006-1748113200-1748122200@deftbrewing.com
SUMMARY:Live Music with Tecolote Canyon
DESCRIPTION:
URL:https://deftbrewing.com/event/live-music-with-tecolote-canyon-19/
END:VEVENT
BEGIN:VEVENT
DTSTART;TZID=UTC:20250523T190000
DTEND;TZID=UTC:20250523T213000
DTSTAMP:20260425T041455
CREATED:20250327T000732Z
LAST-MODIFIED:20250423T232654Z
UID:2002-1748026800-1748035800@deftbrewing.com
SUMMARY:Live Music with Sea Monks
DESCRIPTION:
URL:https://deftbrewing.com/event/live-music-with-sea-monks/
END:VEVENT
BEGIN:VEVENT
DTSTART;TZID=UTC:20250522T183000
DTEND;TZID=UTC:20250522T203000
DTSTAMP:20260425T041455
CREATED:20250327T003826Z
LAST-MODIFIED:20250327T003826Z
UID:2024-1747938600-1747945800@deftbrewing.com
SUMMARY:Trivia in The Garten
DESCRIPTION:
URL:https://deftbrewing.com/event/trivia-in-the-garten-78/
END:VEVENT
BEGIN:VEVENT
DTSTART;TZID=UTC:20250521T180000
DTEND;TZID=UTC:20250521T203000
DTSTAMP:20260425T041455
CREATED:20250327T231235Z
LAST-MODIFIED:20250327T231235Z
UID:2032-1747850400-1747859400@deftbrewing.com
SUMMARY:Open Mic Night
DESCRIPTION:Open sign-ups welcome to amateurs and well-seasoned musical performers!
URL:https://deftbrewing.com/event/open-mic-night-85/
END:VEVENT
BEGIN:VEVENT
DTSTART;TZID=UTC:20250518T163000
DTEND;TZID=UTC:20250518T190000
DTSTAMP:20260425T041455
CREATED:20250327T001312Z
LAST-MODIFIED:20250327T001312Z
UID:2010-1747585800-1747594800@deftbrewing.com
SUMMARY:Live Music with Jakob Najor & The Moment of Truth
DESCRIPTION:
URL:https://deftbrewing.com/event/live-music-with-jakob-najor-the-moment-of-truth/
END:VEVENT
BEGIN:VEVENT
DTSTART;TZID=UTC:20250517T190000
DTEND;TZID=UTC:20250517T213000
DTSTAMP:20260425T041455
CREATED:20250313T003409Z
LAST-MODIFIED:20250423T232130Z
UID:1990-1747508400-1747517400@deftbrewing.com
SUMMARY:Live Music with Drivin' the Bus
DESCRIPTION:
URL:https://deftbrewing.com/event/live-music-with-drivin-the-bus-6/
END:VEVENT
BEGIN:VEVENT
DTSTART;TZID=UTC:20250516T190000
DTEND;TZID=UTC:20250516T213000
DTSTAMP:20260425T041455
CREATED:20250313T003307Z
LAST-MODIFIED:20250423T232042Z
UID:1988-1747422000-1747431000@deftbrewing.com
SUMMARY:Live Music with Wapac Heroes
DESCRIPTION:
URL:https://deftbrewing.com/event/live-music-with-wapac-heroes/
END:VEVENT
END:VCALENDAR