BEGIN:VCALENDAR
VERSION:2.0
PRODID:-//Deft Brewing - ECPv6.15.20//NONSGML v1.0//EN
CALSCALE:GREGORIAN
METHOD:PUBLISH
X-ORIGINAL-URL:https://deftbrewing.com
X-WR-CALDESC:Events for Deft Brewing
REFRESH-INTERVAL;VALUE=DURATION:PT1H
X-Robots-Tag:noindex
X-PUBLISHED-TTL:PT1H
BEGIN:VTIMEZONE
TZID:UTC
BEGIN:STANDARD
TZOFFSETFROM:+0000
TZOFFSETTO:+0000
TZNAME:UTC
DTSTART:20250101T000000
END:STANDARD
END:VTIMEZONE
BEGIN:VEVENT
DTSTART;TZID=UTC:20260301T160000
DTEND;TZID=UTC:20260301T183000
DTSTAMP:20260424T161057
CREATED:20250528T235315Z
LAST-MODIFIED:20260123T232801Z
UID:2142-1772380800-1772389800@deftbrewing.com
SUMMARY:Live Music on the Patio Stage - Side of Beans
DESCRIPTION:Live Music on the Patio Stage – Side of Beans \nDeft Brewing & The Gärten present… Live Music on the Patio Stage all weekend\, featuring Side of Beans tonight.  No cover.  As always\, while taking in the music\, please enjoy some pints of delicious craft beer from Deft Brewing\, mead or wine from Lost Cause Meadery/Oddish Wine\, and some wood-fired pizzas and sandwiches from Pizza Cassette.
URL:https://deftbrewing.com/event/live-music-with-lisa-dilk-the-dude/
END:VEVENT
BEGIN:VEVENT
DTSTART;TZID=UTC:20260304T180000
DTEND;TZID=UTC:20260304T210000
DTSTAMP:20260424T161057
CREATED:20250404T003444Z
LAST-MODIFIED:20260123T222709Z
UID:2052-1772647200-1772658000@deftbrewing.com
SUMMARY:Open Mic Night on the Patio Stage
DESCRIPTION:Open Mic Night on the Patio Stage at Deft Brewing and The Gärten is tonight (and every Wednesday) 6pm\, hosted by our uber-talented hosts.  Whether you are a creative musician (just starting up or well-seasoned with your own tunes) or someone who loves to support local musicians\, please join us tonight on the Patio.  Mic and sound equipment provided – just bring your instrument.  Open signup starts 6pm.  As with every Tues-Sun\, pizza\, sandwiches\, salads\, etc available from Pizza Cassette.
URL:https://deftbrewing.com/event/open-mic-night-90/
END:VEVENT
BEGIN:VEVENT
DTSTART;TZID=UTC:20260305T183000
DTEND;TZID=UTC:20260305T203000
DTSTAMP:20260424T161057
CREATED:20250404T003703Z
LAST-MODIFIED:20260123T223757Z
UID:2058-1772735400-1772742600@deftbrewing.com
SUMMARY:Deft-Brained Trivia on the Patio
DESCRIPTION:Deft-Brained Trivia on the Patio.  Thursday is Deft-Brained Trivia Night @ Deft Brewing & The Gärten.  Looking for some fun trivia that is different than others around town? Come to Deft Brewing every Thursday at 6:30pm to challenge some of our defending champs\, learn some interesting things along the way\, and listen to a few of Mo’s lame Dad Jokes.  Enjoy the competition with some delicious deftly-crafted European-inspired Deft beer\, decadent mead or wine from Lost Cause and Oddish\, and satisfying wood-fired artisanal pizzas and other fare from Pizza Cassette.  No cover.  Fun prizes for the top teams – like the weekly “mystery bag”.  Any size team.  Invite your most deft-brained of friends and join us tonight or any Thursday.
URL:https://deftbrewing.com/event/trivia-in-the-garten-82/
END:VEVENT
BEGIN:VEVENT
DTSTART;TZID=UTC:20260306T180000
DTEND;TZID=UTC:20260306T210000
DTSTAMP:20260424T161057
CREATED:20250528T231705Z
LAST-MODIFIED:20260123T233133Z
UID:2126-1772820000-1772830800@deftbrewing.com
SUMMARY:Live Music on the Patio Stage - Shakedown String Band
DESCRIPTION:Live Music on the Patio Stage – Shakedown String Band \nDeft Brewing & The Gärten present… Live Music on the Patio Stage all weekend\, featuring Shakedown String Band tonight.  No cover.  As always\, while taking in the music\, please enjoy some pints of delicious craft beer from Deft Brewing\, mead or wine from Lost Cause Meadery/Oddish Wine\, and some wood-fired pizzas and sandwiches from Pizza Cassette.
URL:https://deftbrewing.com/event/live-music-with-shakedown-string-band-16/
END:VEVENT
BEGIN:VEVENT
DTSTART;TZID=UTC:20260307T180000
DTEND;TZID=UTC:20260307T210000
DTSTAMP:20260424T161057
CREATED:20250528T235140Z
LAST-MODIFIED:20260123T233359Z
UID:2140-1772906400-1772917200@deftbrewing.com
SUMMARY:Live Music on the Patio Stage - Do Right Louie
DESCRIPTION:Live Music on the Patio Stage – Do Right Louie \nDeft Brewing & The Gärten present… Live Music on the Patio Stage all weekend\, featuring Do Right Louie tonight.  No cover.  As always\, while taking in the music\, please enjoy some pints of delicious craft beer from Deft Brewing\, mead or wine from Lost Cause Meadery/Oddish Wine\, and some wood-fired pizzas and sandwiches from Pizza Cassette.
URL:https://deftbrewing.com/event/live-music-with-electric-waste-band/
END:VEVENT
BEGIN:VEVENT
DTSTART;TZID=UTC:20260308T160000
DTEND;TZID=UTC:20260308T183000
DTSTAMP:20260424T161057
CREATED:20250528T235038Z
LAST-MODIFIED:20260123T233537Z
UID:2138-1772985600-1772994600@deftbrewing.com
SUMMARY:Live Music on the Patio Stage - Robin Henkel Blues
DESCRIPTION:Live Music on the Patio Stage – Robin Henkel Blues \nDeft Brewing & The Gärten present… Live Music on the Patio Stage all weekend\, featuring Robin Henkel Blues tonight.  No cover.  As always\, while taking in the music\, please enjoy some pints of delicious craft beer from Deft Brewing\, mead or wine from Lost Cause Meadery/Oddish Wine\, and some wood-fired pizzas and sandwiches from Pizza Cassette.
URL:https://deftbrewing.com/event/live-music-with-the-water-spots-13/
END:VEVENT
BEGIN:VEVENT
DTSTART;TZID=UTC:20260311T180000
DTEND;TZID=UTC:20260311T210000
DTSTAMP:20260424T161057
CREATED:20250404T003353Z
LAST-MODIFIED:20260123T222755Z
UID:2050-1773252000-1773262800@deftbrewing.com
SUMMARY:Open Mic Night on the Patio Stage
DESCRIPTION:Open Mic Night on the Patio Stage at Deft Brewing and The Gärten is tonight (and every Wednesday) 6pm\, hosted by our uber-talented hosts.  Whether you are a creative musician (just starting up or well-seasoned with your own tunes) or someone who loves to support local musicians\, please join us tonight on the Patio.  Mic and sound equipment provided – just bring your instrument.  Open signup starts 6pm.  As with every Tues-Sun\, pizza\, sandwiches\, salads\, etc available from Pizza Cassette.
URL:https://deftbrewing.com/event/open-mic-night-89/
END:VEVENT
BEGIN:VEVENT
DTSTART;TZID=UTC:20260312T183000
DTEND;TZID=UTC:20260312T203000
DTSTAMP:20260424T161057
CREATED:20250404T003635Z
LAST-MODIFIED:20260123T223845Z
UID:2056-1773340200-1773347400@deftbrewing.com
SUMMARY:Deft-Brained Trivia on the Patio
DESCRIPTION:Deft-Brained Trivia on the Patio.  Thursday is Deft-Brained Trivia Night @ Deft Brewing & The Gärten.  Looking for some fun trivia that is different than others around town? Come to Deft Brewing every Thursday at 6:30pm to challenge some of our defending champs\, learn some interesting things along the way\, and listen to a few of Mo’s lame Dad Jokes.  Enjoy the competition with some delicious deftly-crafted European-inspired Deft beer\, decadent mead or wine from Lost Cause and Oddish\, and satisfying wood-fired artisanal pizzas and other fare from Pizza Cassette.  No cover.  Fun prizes for the top teams – like the weekly “mystery bag”.  Any size team.  Invite your most deft-brained of friends and join us tonight or any Thursday.
URL:https://deftbrewing.com/event/trivia-in-the-garten-81/
END:VEVENT
BEGIN:VEVENT
DTSTART;TZID=UTC:20260313T180000
DTEND;TZID=UTC:20260313T210000
DTSTAMP:20260424T161057
CREATED:20250528T234945Z
LAST-MODIFIED:20260123T233659Z
UID:2136-1773424800-1773435600@deftbrewing.com
SUMMARY:Live Music on the Patio Stage - Surf Birdz
DESCRIPTION:Live Music on the Patio Stage – Surf Birdz \nDeft Brewing & The Gärten present… Live Music on the Patio Stage all weekend\, featuring Surf Birdz tonight.  No cover.  As always\, while taking in the music\, please enjoy some pints of delicious craft beer from Deft Brewing\, mead or wine from Lost Cause Meadery/Oddish Wine\, and some wood-fired pizzas and sandwiches from Pizza Cassette.
URL:https://deftbrewing.com/event/live-music-with-tecolote-canyon-22/
END:VEVENT
BEGIN:VEVENT
DTSTART;TZID=UTC:20260314T180000
DTEND;TZID=UTC:20260314T210000
DTSTAMP:20260424T161057
CREATED:20250528T234531Z
LAST-MODIFIED:20260123T234040Z
UID:2132-1773511200-1773522000@deftbrewing.com
SUMMARY:Live Music on the Patio Stage - Tecolote Canyon Band
DESCRIPTION:Live Music on the Patio Stage – Tecolote Canyon Band \nDeft Brewing & The Gärten present… Live Music on the Patio Stage all weekend\, featuring Tecolote Canyon Band tonight.  No cover.  As always\, while taking in the music\, please enjoy some pints of delicious craft beer from Deft Brewing\, mead or wine from Lost Cause Meadery/Oddish Wine\, and some wood-fired pizzas and sandwiches from Pizza Cassette.
URL:https://deftbrewing.com/event/live-music-with-mystery-train-jerry-garcia-tribute-band-3/
END:VEVENT
BEGIN:VEVENT
DTSTART;TZID=UTC:20260315T160000
DTEND;TZID=UTC:20260315T183000
DTSTAMP:20260424T161057
CREATED:20250528T233722Z
LAST-MODIFIED:20260124T000645Z
UID:2130-1773590400-1773599400@deftbrewing.com
SUMMARY:Live Music on the Patio Stage - Piers Lawrence & The Jazz Allstars
DESCRIPTION:Live Music on the Patio Stage – Piers Lawrence & The Jazz Allstars \nDeft Brewing & The Gärten present… Live Music on the Patio Stage all weekend\, featuring Piers Lawrence & The Jazz Allstars tonight.  No cover.  As always\, while taking in the music\, please enjoy some pints of delicious craft beer from Deft Brewing\, mead or wine from Lost Cause Meadery/Oddish Wine\, and some wood-fired pizzas and sandwiches from Pizza Cassette.
URL:https://deftbrewing.com/event/live-music-with-quick-fix-funk-trio-4/
END:VEVENT
BEGIN:VEVENT
DTSTART;TZID=UTC:20260318T180000
DTEND;TZID=UTC:20260318T210000
DTSTAMP:20260424T161057
CREATED:20250404T003305Z
LAST-MODIFIED:20260123T222841Z
UID:2048-1773856800-1773867600@deftbrewing.com
SUMMARY:Open Mic Night on the Patio Stage
DESCRIPTION:Open Mic Night on the Patio Stage at Deft Brewing and The Gärten is tonight (and every Wednesday) 6pm\, hosted by our uber-talented hosts.  Whether you are a creative musician (just starting up or well-seasoned with your own tunes) or someone who loves to support local musicians\, please join us tonight on the Patio.  Mic and sound equipment provided – just bring your instrument.  Open signup starts 6pm.  As with every Tues-Sun\, pizza\, sandwiches\, salads\, etc available from Pizza Cassette.
URL:https://deftbrewing.com/event/open-mic-night-88/
END:VEVENT
BEGIN:VEVENT
DTSTART;TZID=UTC:20260319T183000
DTEND;TZID=UTC:20260319T203000
DTSTAMP:20260424T161057
CREATED:20250327T003903Z
LAST-MODIFIED:20260123T224021Z
UID:2026-1773945000-1773952200@deftbrewing.com
SUMMARY:Deft-Brained Trivia on the Patio
DESCRIPTION:Deft-Brained Trivia on the Patio.  Thursday is Deft-Brained Trivia Night @ Deft Brewing & The Gärten.  Looking for some fun trivia that is different than others around town? Come to Deft Brewing every Thursday at 6:30pm to challenge some of our defending champs\, learn some interesting things along the way\, and listen to a few of Mo’s lame Dad Jokes.  Enjoy the competition with some delicious deftly-crafted European-inspired Deft beer\, decadent mead or wine from Lost Cause and Oddish\, and satisfying wood-fired artisanal pizzas and other fare from Pizza Cassette.  No cover.  Fun prizes for the top teams – like the weekly “mystery bag”.  Any size team.  Invite your most deft-brained of friends and join us tonight or any Thursday.
URL:https://deftbrewing.com/event/trivia-in-the-garten-79/
END:VEVENT
BEGIN:VEVENT
DTSTART;TZID=UTC:20260320T180000
DTEND;TZID=UTC:20260320T210000
DTSTAMP:20260424T161057
CREATED:20250528T223214Z
LAST-MODIFIED:20260123T235809Z
UID:2123-1774029600-1774040400@deftbrewing.com
SUMMARY:Live Music on the Patio Stage - Linda Berry Band
DESCRIPTION:Live Music on the Patio Stage – Linda Berry Band \nDeft Brewing & The Gärten present… Live Music on the Patio Stage all weekend\, featuring Linda Berry Band tonight.  No cover.  As always\, while taking in the music\, please enjoy some pints of delicious craft beer from Deft Brewing\, mead or wine from Lost Cause Meadery/Oddish Wine\, and some wood-fired pizzas and sandwiches from Pizza Cassette.
URL:https://deftbrewing.com/event/live-music-with-mystery-train-4/
END:VEVENT
BEGIN:VEVENT
DTSTART;TZID=UTC:20260321T180000
DTEND;TZID=UTC:20260321T210000
DTSTAMP:20260424T161057
CREATED:20250528T223032Z
LAST-MODIFIED:20260123T235932Z
UID:2121-1774116000-1774126800@deftbrewing.com
SUMMARY:Live Music on the Patio Stage - The Black Shades
DESCRIPTION:Live Music on the Patio Stage – The Black Shades \nDeft Brewing & The Gärten present… Live Music on the Patio Stage all weekend\, featuring The Black Shades tonight.  No cover.  As always\, while taking in the music\, please enjoy some pints of delicious craft beer from Deft Brewing\, mead or wine from Lost Cause Meadery/Oddish Wine\, and some wood-fired pizzas and sandwiches from Pizza Cassette.
URL:https://deftbrewing.com/event/live-music-with-los-tortugas-6/
END:VEVENT
BEGIN:VEVENT
DTSTART;TZID=UTC:20260322T160000
DTEND;TZID=UTC:20260322T183000
DTSTAMP:20260424T161057
CREATED:20250528T222844Z
LAST-MODIFIED:20260124T000118Z
UID:2119-1774195200-1774204200@deftbrewing.com
SUMMARY:Live Music on the Patio Stage - Lisa Dilk & The Dude
DESCRIPTION:Live Music on the Patio Stage – Lisa Dilk & The Dude \nDeft Brewing & The Gärten present… Live Music on the Patio Stage all weekend\, featuring Lisa Dilk & The Dude tonight.  No cover.  As always\, while taking in the music\, please enjoy some pints of delicious craft beer from Deft Brewing\, mead or wine from Lost Cause Meadery/Oddish Wine\, and some wood-fired pizzas and sandwiches from Pizza Cassette.
URL:https://deftbrewing.com/event/live-music-with-shakedown-string-band-15/
END:VEVENT
BEGIN:VEVENT
DTSTART;TZID=UTC:20260325T180000
DTEND;TZID=UTC:20260325T210000
DTSTAMP:20260424T161057
CREATED:20250404T003145Z
LAST-MODIFIED:20260123T222936Z
UID:2046-1774461600-1774472400@deftbrewing.com
SUMMARY:Open Mic Night on the Patio Stage
DESCRIPTION:Open Mic Night on the Patio Stage at Deft Brewing and The Gärten is tonight (and every Wednesday) 6pm\, hosted by our uber-talented hosts.  Whether you are a creative musician (just starting up or well-seasoned with your own tunes) or someone who loves to support local musicians\, please join us tonight on the Patio.  Mic and sound equipment provided – just bring your instrument.  Open signup starts 6pm.  As with every Tues-Sun\, pizza\, sandwiches\, salads\, etc available from Pizza Cassette.
URL:https://deftbrewing.com/event/open-mic-night-87/
END:VEVENT
BEGIN:VEVENT
DTSTART;TZID=UTC:20260326T183000
DTEND;TZID=UTC:20260326T203000
DTSTAMP:20260424T161057
CREATED:20250404T003612Z
LAST-MODIFIED:20260123T223935Z
UID:2054-1774549800-1774557000@deftbrewing.com
SUMMARY:Deft-Brained Trivia on the Patio
DESCRIPTION:Deft-Brained Trivia on the Patio.  Thursday is Deft-Brained Trivia Night @ Deft Brewing & The Gärten.  Looking for some fun trivia that is different than others around town? Come to Deft Brewing every Thursday at 6:30pm to challenge some of our defending champs\, learn some interesting things along the way\, and listen to a few of Mo’s lame Dad Jokes.  Enjoy the competition with some delicious deftly-crafted European-inspired Deft beer\, decadent mead or wine from Lost Cause and Oddish\, and satisfying wood-fired artisanal pizzas and other fare from Pizza Cassette.  No cover.  Fun prizes for the top teams – like the weekly “mystery bag”.  Any size team.  Invite your most deft-brained of friends and join us tonight or any Thursday.
URL:https://deftbrewing.com/event/trivia-in-the-garten-80/
END:VEVENT
BEGIN:VEVENT
DTSTART;TZID=UTC:20260327T170000
DTEND;TZID=UTC:20260327T200000
DTSTAMP:20260424T161057
CREATED:20250423T230957Z
LAST-MODIFIED:20260124T000241Z
UID:2103-1774630800-1774641600@deftbrewing.com
SUMMARY:Live Music on the Patio Stage - Mystery Train
DESCRIPTION:Live Music on the Patio Stage – Mystery Train \nDeft Brewing & The Gärten present… Live Music on the Patio Stage all weekend\, featuring Mystery Train tonight.  No cover.  As always\, while taking in the music\, please enjoy some pints of delicious craft beer from Deft Brewing\, mead or wine from Lost Cause Meadery/Oddish Wine\, and some wood-fired pizzas and sandwiches from Pizza Cassette.
URL:https://deftbrewing.com/event/live-music-with-tecolote-canyon-21/
END:VEVENT
BEGIN:VEVENT
DTSTART;TZID=UTC:20260328T180000
DTEND;TZID=UTC:20260328T210000
DTSTAMP:20260424T161057
CREATED:20250404T004257Z
LAST-MODIFIED:20260124T000405Z
UID:2066-1774720800-1774731600@deftbrewing.com
SUMMARY:Live Music on the Patio Stage - Sandpiper Ensemble
DESCRIPTION:Live Music on the Patio Stage – Sandpiper Ensemble \nDeft Brewing & The Gärten present… Live Music on the Patio Stage all weekend\, featuring Sandpiper Ensemble tonight.  No cover.  As always\, while taking in the music\, please enjoy some pints of delicious craft beer from Deft Brewing\, mead or wine from Lost Cause Meadery/Oddish Wine\, and some wood-fired pizzas and sandwiches from Pizza Cassette.
URL:https://deftbrewing.com/event/live-music-with-the-water-spots-12/
END:VEVENT
BEGIN:VEVENT
DTSTART;TZID=UTC:20260329T160000
DTEND;TZID=UTC:20260329T183000
DTSTAMP:20260424T161057
CREATED:20250404T004542Z
LAST-MODIFIED:20260124T000535Z
UID:2070-1774800000-1774809000@deftbrewing.com
SUMMARY:Live Music on the Patio Stage - Quick Fix Jazz Funk Trio
DESCRIPTION:Live Music on the Patio Stage – Quick Fix Jazz Funk Trio \nDeft Brewing & The Gärten present… Live Music on the Patio Stage all weekend\, featuring Quick Fix Jazz Funk Trio tonight.  No cover.  As always\, while taking in the music\, please enjoy some pints of delicious craft beer from Deft Brewing\, mead or wine from Lost Cause Meadery/Oddish Wine\, and some wood-fired pizzas and sandwiches from Pizza Cassette.
URL:https://deftbrewing.com/event/live-music-with-kid-tributes-3/
END:VEVENT
END:VCALENDAR